BEGIN:VCALENDAR
VERSION:2.0
PRODID:-//https://www.anm.gov.my///NONSGML kigkonsult.se iCalcreator 2.10.15//
METHOD:PUBLISH
BEGIN:VEVENT
UID:20260422T015757UTC-9530lKcwZV@https://www.anm.gov.my/
DTSTAMP:20260422T015757Z
DESCRIPTION: https://www.anm.gov.my/component/rseventspro/aktiviti/1017-pem
 bayaran-gaji-sektor-awam?Itemid=2827
DTSTART;VALUE=DATE:20210506
LOCATION:Jabatan Akauntan Negara Malaysia (Dewan Serbaguna\, Aras 7)
SUMMARY:Pembayaran Gaji Sektor Awam
URL:https://www.anm.gov.my/component/rseventspro/aktiviti/1017-pembayaran-g
 aji-sektor-awam?Itemid=2827
END:VEVENT
END:VCALENDAR
