BEGIN:VCALENDAR
VERSION:2.0
PRODID:-//https://www.anm.gov.my///NONSGML kigkonsult.se iCalcreator 2.10.15//
METHOD:PUBLISH
BEGIN:VEVENT
UID:20260422T085336UTC-4735AmsCFj@https://www.anm.gov.my/
DTSTAMP:20260422T085336Z
DESCRIPTION: https://www.anm.gov.my/component/rseventspro/aktiviti/577-pemb
 ayaran-gaji-sektor-awam?Itemid=2827
DTSTART;VALUE=DATE:20190425
LOCATION:Jabatan Akauntan Negara Malaysia (Dewan Serbaguna\, Aras 7)
SUMMARY:Pembayaran Gaji Sektor Awam
URL:https://www.anm.gov.my/component/rseventspro/aktiviti/577-pembayaran-ga
 ji-sektor-awam?Itemid=2827
END:VEVENT
END:VCALENDAR
