BEGIN:VCALENDAR
VERSION:2.0
PRODID:-//https://www.anm.gov.my///NONSGML kigkonsult.se iCalcreator 2.10.15//
METHOD:PUBLISH
BEGIN:VEVENT
UID:20260423T010706UTC-1013Zm3AjN@https://www.anm.gov.my/
DTSTAMP:20260423T010706Z
DESCRIPTION:Untuk maklumat permohonan kursus atau maklumat lanjut sila klik
  disini. https://www.anm.gov.my/component/rseventspro/aktiviti/603-kursus-
 ipn-gaji-elaun-dan-kemudahan-penjawat-awam?Itemid=2827
DTSTART;VALUE=DATE:20190212
LOCATION:Institut Perakaunan Negara\, Sabak Bernam (Jalan 2\, Sungai Lang\,
  45100 Sabak Bernam\, Selangor Darul Ehsan.)
SUMMARY:KURSUS@IPN : Gaji\, Elaun dan Kemudahan Penjawat Awam
URL:https://www.anm.gov.my/component/rseventspro/aktiviti/603-kursus-ipn-ga
 ji-elaun-dan-kemudahan-penjawat-awam?Itemid=2827
END:VEVENT
END:VCALENDAR
