BEGIN:VCALENDAR
VERSION:2.0
PRODID:-//https://www.anm.gov.my///NONSGML kigkonsult.se iCalcreator 2.10.15//
METHOD:PUBLISH
BEGIN:VEVENT
UID:20260422T231437UTC-3852g2cHVO@https://www.anm.gov.my/
DTSTAMP:20260422T231437Z
DESCRIPTION:Untuk maklumat permohonan kursus atau maklumat lanjut sila klik
  disini. https://www.anm.gov.my/component/rseventspro/aktiviti/613-kursus-
 ipn-perakaunan-akruan-asas?Itemid=2827
DTSTART;VALUE=DATE:20190219
LOCATION:Institut Perakaunan Negara\, Sabak Bernam (Jalan 2\, Sungai Lang\,
  45100 Sabak Bernam\, Selangor Darul Ehsan.)
SUMMARY:KURSUS@IPN : Perakaunan Akruan (Asas)
URL:https://www.anm.gov.my/component/rseventspro/aktiviti/613-kursus-ipn-pe
 rakaunan-akruan-asas?Itemid=2827
END:VEVENT
END:VCALENDAR
