BEGIN:VCALENDAR
VERSION:2.0
PRODID:-//https://www.anm.gov.my///NONSGML kigkonsult.se iCalcreator 2.10.15//
METHOD:PUBLISH
BEGIN:VEVENT
UID:20260422T233255UTC-9732DHDzMe@https://www.anm.gov.my/
DTSTAMP:20260422T233255Z
DESCRIPTION:Untuk maklumat permohonan kursus atau maklumat lanjut sila klik
  disini. https://www.anm.gov.my/component/rseventspro/aktiviti/615-kursus-
 ipn-perolehan-secara-sebutharga-tender-bekalan-perkhidmatan?Itemid=2827
DTSTART;VALUE=DATE:20190219
LOCATION:Institut Perakaunan Negara\, Sabak Bernam (Jalan 2\, Sungai Lang\,
  45100 Sabak Bernam\, Selangor Darul Ehsan.)
SUMMARY:KURSUS@IPN : Perolehan Secara Sebutharga & Tender (Bekalan & Perkhi
 dmatan)
URL:https://www.anm.gov.my/component/rseventspro/aktiviti/615-kursus-ipn-pe
 rolehan-secara-sebutharga-tender-bekalan-perkhidmatan?Itemid=2827
END:VEVENT
END:VCALENDAR
