BEGIN:VCALENDAR
VERSION:2.0
PRODID:-//https://www.anm.gov.my///NONSGML kigkonsult.se iCalcreator 2.10.15//
METHOD:PUBLISH
BEGIN:VEVENT
UID:20260422T215145UTC-9331kuz3ek@https://www.anm.gov.my/
DTSTAMP:20260422T215145Z
DESCRIPTION:Untuk maklumat permohonan kursus atau maklumat lanjut sila klik
  disini. https://www.anm.gov.my/component/rseventspro/aktiviti/621-kursus-
 ipn-pengurusan-aset-alih-stor-kerajaan?Itemid=2827
DTSTART;VALUE=DATE:20190225
LOCATION:Institut Perakaunan Negara\, Sabak Bernam (Jalan 2\, Sungai Lang\,
  45100 Sabak Bernam\, Selangor Darul Ehsan.)
SUMMARY:KURSUS@IPN : Pengurusan Aset Alih & Stor Kerajaan
URL:https://www.anm.gov.my/component/rseventspro/aktiviti/621-kursus-ipn-pe
 ngurusan-aset-alih-stor-kerajaan?Itemid=2827
END:VEVENT
END:VCALENDAR
