BEGIN:VCALENDAR
VERSION:2.0
PRODID:-//https://www.anm.gov.my///NONSGML kigkonsult.se iCalcreator 2.10.15//
METHOD:PUBLISH
BEGIN:VEVENT
UID:20260422T215054UTC-2567L0KVzp@https://www.anm.gov.my/
DTSTAMP:20260422T215054Z
DESCRIPTION:Untuk maklumat permohonan kursus atau maklumat lanjut sila klik
  disini. https://www.anm.gov.my/component/rseventspro/aktiviti/623-kursus-
 ipn-sistem-pengurusan-stor-sps?Itemid=2827
DTSTART;VALUE=DATE:20190226
LOCATION:Institut Perakaunan Negara\, Sabak Bernam (Jalan 2\, Sungai Lang\,
  45100 Sabak Bernam\, Selangor Darul Ehsan.)
SUMMARY:KURSUS@IPN : Sistem Pengurusan Stor (SPS)
URL:https://www.anm.gov.my/component/rseventspro/aktiviti/623-kursus-ipn-si
 stem-pengurusan-stor-sps?Itemid=2827
END:VEVENT
END:VCALENDAR
