BEGIN:VCALENDAR
VERSION:2.0
PRODID:-//https://www.anm.gov.my///NONSGML kigkonsult.se iCalcreator 2.10.15//
METHOD:PUBLISH
BEGIN:VEVENT
UID:20260422T183148UTC-1695SXTC3Z@https://www.anm.gov.my/
DTSTAMP:20260422T183148Z
DESCRIPTION: https://www.anm.gov.my/component/rseventspro/aktiviti/653-kurs
 us-ipn-myspata-sistem-pengurusan-aset-tak-alih-kerajaan?Itemid=2827
DTSTART;VALUE=DATE:20190312
LOCATION:Institut Perakaunan Negara\, Sabak Bernam (Jalan 2\, Sungai Lang\,
  45100 Sabak Bernam\, Selangor Darul Ehsan.)
SUMMARY:KURSUS@IPN : MySPATA : Sistem Pengurusan Aset Tak Alih Kerajaan
URL:https://www.anm.gov.my/component/rseventspro/aktiviti/653-kursus-ipn-my
 spata-sistem-pengurusan-aset-tak-alih-kerajaan?Itemid=2827
END:VEVENT
END:VCALENDAR
