BEGIN:VCALENDAR
VERSION:2.0
PRODID:-//https://www.anm.gov.my///NONSGML kigkonsult.se iCalcreator 2.10.15//
METHOD:PUBLISH
BEGIN:VEVENT
UID:20260422T170307UTC-0959Dnv4ek@https://www.anm.gov.my/
DTSTAMP:20260422T170307Z
DESCRIPTION: https://www.anm.gov.my/component/rseventspro/aktiviti/657-kurs
 us-ipn-sistem-belanjawan-negara-asas?Itemid=2827
DTSTART;VALUE=DATE:20190319
LOCATION:Institut Perakaunan Negara\, Sabak Bernam (Jalan 2\, Sungai Lang\,
  45100 Sabak Bernam\, Selangor Darul Ehsan.)
SUMMARY:KURSUS@IPN : Sistem Belanjawan Negara (Asas)
URL:https://www.anm.gov.my/component/rseventspro/aktiviti/657-kursus-ipn-si
 stem-belanjawan-negara-asas?Itemid=2827
END:VEVENT
END:VCALENDAR
