BEGIN:VCALENDAR
VERSION:2.0
PRODID:-//https://www.anm.gov.my///NONSGML kigkonsult.se iCalcreator 2.10.15//
METHOD:PUBLISH
BEGIN:VEVENT
UID:20260422T183928UTC-039559preX@https://www.anm.gov.my/
DTSTAMP:20260422T183928Z
DESCRIPTION: https://www.anm.gov.my/component/rseventspro/aktiviti/677-majl
 is-anugerah-apresiasi-kecemerlangan-janm-2018?Itemid=2827
DTSTART;VALUE=DATE:20190314
LOCATION:Jabatan Akauntan Negara Malaysia (Dewan Serbaguna\, Aras 7)
SUMMARY:Majlis Anugerah Apresiasi Kecemerlangan JANM 2018
URL:https://www.anm.gov.my/component/rseventspro/aktiviti/677-majlis-anuger
 ah-apresiasi-kecemerlangan-janm-2018?Itemid=2827
END:VEVENT
END:VCALENDAR
