BEGIN:VCALENDAR
VERSION:2.0
PRODID:-//https://www.anm.gov.my///NONSGML kigkonsult.se iCalcreator 2.10.15//
METHOD:PUBLISH
BEGIN:VEVENT
UID:20260422T135943UTC-4193utpKBL@https://www.anm.gov.my/
DTSTAMP:20260422T135943Z
DESCRIPTION: https://www.anm.gov.my/component/rseventspro/aktiviti/685-kurs
 us-ipn-sistem-pengurusan-aset-spa?Itemid=2827
DTSTART;VALUE=DATE:20190402
LOCATION:Institut Perakaunan Negara\, Sabak Bernam (Jalan 2\, Sungai Lang\,
  45100 Sabak Bernam\, Selangor Darul Ehsan.)
SUMMARY:KURSUS@IPN : Sistem Pengurusan Aset (SPA)
URL:https://www.anm.gov.my/component/rseventspro/aktiviti/685-kursus-ipn-si
 stem-pengurusan-aset-spa?Itemid=2827
END:VEVENT
END:VCALENDAR
