BEGIN:VCALENDAR
VERSION:2.0
PRODID:-//https://www.anm.gov.my///NONSGML kigkonsult.se iCalcreator 2.10.15//
METHOD:PUBLISH
BEGIN:VEVENT
UID:20260422T140019UTC-2138vtKHuT@https://www.anm.gov.my/
DTSTAMP:20260422T140019Z
DESCRIPTION: https://www.anm.gov.my/component/rseventspro/aktiviti/687-kurs
 us-ipn-asas-perakaunan-kerajaan?Itemid=2827
DTSTART;VALUE=DATE:20190402
LOCATION:Institut Perakaunan Negara\, Sabak Bernam (Jalan 2\, Sungai Lang\,
  45100 Sabak Bernam\, Selangor Darul Ehsan.)
SUMMARY:KURSUS@IPN : Asas Perakaunan Kerajaan
URL:https://www.anm.gov.my/component/rseventspro/aktiviti/687-kursus-ipn-as
 as-perakaunan-kerajaan?Itemid=2827
END:VEVENT
END:VCALENDAR
