BEGIN:VCALENDAR
VERSION:2.0
PRODID:-//https://www.anm.gov.my///NONSGML kigkonsult.se iCalcreator 2.10.15//
METHOD:PUBLISH
BEGIN:VEVENT
UID:20260422T103604UTC-8919aHl5HO@https://www.anm.gov.my/
DTSTAMP:20260422T103604Z
DESCRIPTION: https://www.anm.gov.my/component/rseventspro/aktiviti/707-kurs
 us-ipn-igfmas-pengurusan-perolehan?Itemid=2827
DTSTART;VALUE=DATE:20190416
LOCATION:Institut Perakaunan Negara\, Sabak Bernam (Jalan 2\, Sungai Lang\,
  45100 Sabak Bernam\, Selangor Darul Ehsan.)
SUMMARY:KURSUS@IPN : iGFMAS : Pengurusan Perolehan
URL:https://www.anm.gov.my/component/rseventspro/aktiviti/707-kursus-ipn-ig
 fmas-pengurusan-perolehan?Itemid=2827
END:VEVENT
END:VCALENDAR
