BEGIN:VCALENDAR
VERSION:2.0
PRODID:-//https://www.anm.gov.my///NONSGML kigkonsult.se iCalcreator 2.10.15//
METHOD:PUBLISH
BEGIN:VEVENT
UID:20260422T103734UTC-1062JHFvKH@https://www.anm.gov.my/
DTSTAMP:20260422T103734Z
DESCRIPTION: https://www.anm.gov.my/component/rseventspro/aktiviti/709-kurs
 us-ipn-pengurusan-prosedur-kawalan-terimaan?Itemid=2827
DTSTART;VALUE=DATE:20190416
LOCATION:Institut Perakaunan Negara\, Sabak Bernam (Jalan 2\, Sungai Lang\,
  45100 Sabak Bernam\, Selangor Darul Ehsan.)
SUMMARY:KURSUS@IPN : Pengurusan Prosedur Kawalan Terimaan
URL:https://www.anm.gov.my/component/rseventspro/aktiviti/709-kursus-ipn-pe
 ngurusan-prosedur-kawalan-terimaan?Itemid=2827
END:VEVENT
END:VCALENDAR
