BEGIN:VCALENDAR
VERSION:2.0
PRODID:-//https://www.anm.gov.my///NONSGML kigkonsult.se iCalcreator 2.10.15//
METHOD:PUBLISH
BEGIN:VEVENT
UID:20260422T103559UTC-0338fvVoaw@https://www.anm.gov.my/
DTSTAMP:20260422T103559Z
DESCRIPTION: https://www.anm.gov.my/component/rseventspro/aktiviti/713-kurs
 us-ipn-comprehensive-microsoft-excel?Itemid=2827
DTSTART;VALUE=DATE:20190416
LOCATION:Institut Perakaunan Negara\, Sabak Bernam (Jalan 2\, Sungai Lang\,
  45100 Sabak Bernam\, Selangor Darul Ehsan.)
SUMMARY:KURSUS@IPN : Comprehensive Microsoft Excel
URL:https://www.anm.gov.my/component/rseventspro/aktiviti/713-kursus-ipn-co
 mprehensive-microsoft-excel?Itemid=2827
END:VEVENT
END:VCALENDAR
