BEGIN:VCALENDAR
VERSION:2.0
PRODID:-//https://www.anm.gov.my///NONSGML kigkonsult.se iCalcreator 2.10.15//
METHOD:PUBLISH
BEGIN:VEVENT
UID:20260424T083344UTC-7253GsNEvz@https://www.anm.gov.my/
DTSTAMP:20260424T083344Z
DESCRIPTION: https://www.anm.gov.my/component/rseventspro/aktiviti/717-kurs
 us-ipn-igfmas-perakaunan-terimaan?Itemid=2827
DTSTART;VALUE=DATE:20190423
LOCATION:Institut Perakaunan Negara\, Sabak Bernam (Jalan 2\, Sungai Lang\,
  45100 Sabak Bernam\, Selangor Darul Ehsan.)
SUMMARY:KURSUS@IPN : iGFMAS : Perakaunan Terimaan
URL:https://www.anm.gov.my/component/rseventspro/aktiviti/717-kursus-ipn-ig
 fmas-perakaunan-terimaan?Itemid=2827
END:VEVENT
END:VCALENDAR
