BEGIN:VCALENDAR
VERSION:2.0
PRODID:-//https://www.anm.gov.my///NONSGML kigkonsult.se iCalcreator 2.10.15//
METHOD:PUBLISH
BEGIN:VEVENT
UID:20260422T085421UTC-1264u0oGlD@https://www.anm.gov.my/
DTSTAMP:20260422T085421Z
DESCRIPTION: https://www.anm.gov.my/component/rseventspro/aktiviti/725-kurs
 us-ipn-mpsas-perakaunan-hasil?Itemid=2827
DTSTART;VALUE=DATE:20190423
LOCATION:Institut Perakaunan Negara\, Sabak Bernam (Jalan 2\, Sungai Lang\,
  45100 Sabak Bernam\, Selangor Darul Ehsan.)
SUMMARY:KURSUS@IPN : MPSAS : Perakaunan Hasil
URL:https://www.anm.gov.my/component/rseventspro/aktiviti/725-kursus-ipn-mp
 sas-perakaunan-hasil?Itemid=2827
END:VEVENT
END:VCALENDAR
