BEGIN:VCALENDAR
VERSION:2.0
PRODID:-//https://www.anm.gov.my///NONSGML kigkonsult.se iCalcreator 2.10.15//
METHOD:PUBLISH
BEGIN:VEVENT
UID:20260421T193541UTC-0174ngLnka@https://www.anm.gov.my/
DTSTAMP:20260421T193541Z
DESCRIPTION: https://www.anm.gov.my/component/rseventspro/aktiviti/739-kurs
 us-ipn-eperolehan---sebutharga-tender-ebidding?Itemid=2827
DTSTART;VALUE=DATE:20190618
LOCATION:Institut Perakaunan Negara\, Sabak Bernam (Jalan 2\, Sungai Lang\,
  45100 Sabak Bernam\, Selangor Darul Ehsan.)
SUMMARY:KURSUS@IPN : ePerolehan – Sebutharga/ Tender/ eBidding
URL:https://www.anm.gov.my/component/rseventspro/aktiviti/739-kursus-ipn-ep
 erolehan---sebutharga-tender-ebidding?Itemid=2827
END:VEVENT
END:VCALENDAR
