BEGIN:VCALENDAR
VERSION:2.0
PRODID:-//https://www.anm.gov.my///NONSGML kigkonsult.se iCalcreator 2.10.15//
METHOD:PUBLISH
BEGIN:VEVENT
UID:20260421T174207UTC-3870kK19DW@https://www.anm.gov.my/
DTSTAMP:20260421T174207Z
DESCRIPTION: https://www.anm.gov.my/component/rseventspro/aktiviti/741-kurs
 us-ipn-asas-pengurusan-kewangan?Itemid=2827
DTSTART;VALUE=DATE:20190625
LOCATION:Institut Perakaunan Negara\, Sabak Bernam (Jalan 2\, Sungai Lang\,
  45100 Sabak Bernam\, Selangor Darul Ehsan.)
SUMMARY:KURSUS@IPN : Asas Pengurusan Kewangan
URL:https://www.anm.gov.my/component/rseventspro/aktiviti/741-kursus-ipn-as
 as-pengurusan-kewangan?Itemid=2827
END:VEVENT
END:VCALENDAR
