BEGIN:VCALENDAR
VERSION:2.0
PRODID:-//https://www.anm.gov.my///NONSGML kigkonsult.se iCalcreator 2.10.15//
METHOD:PUBLISH
BEGIN:VEVENT
UID:20260421T174412UTC-3341zVCGx6@https://www.anm.gov.my/
DTSTAMP:20260421T174412Z
DESCRIPTION: https://www.anm.gov.my/component/rseventspro/aktiviti/743-kurs
 us-ipn-perakaunan-akruan-pertengahan?Itemid=2827
DTSTART;VALUE=DATE:20190625
LOCATION:Institut Perakaunan Negara\, Sabak Bernam (Jalan 2\, Sungai Lang\,
  45100 Sabak Bernam\, Selangor Darul Ehsan.)
SUMMARY:KURSUS@IPN : Perakaunan Akruan (Pertengahan)
URL:https://www.anm.gov.my/component/rseventspro/aktiviti/743-kursus-ipn-pe
 rakaunan-akruan-pertengahan?Itemid=2827
END:VEVENT
END:VCALENDAR
