BEGIN:VCALENDAR
VERSION:2.0
PRODID:-//https://www.anm.gov.my///NONSGML kigkonsult.se iCalcreator 2.10.15//
METHOD:PUBLISH
BEGIN:VEVENT
UID:20260421T173845UTC-91658GnPwW@https://www.anm.gov.my/
DTSTAMP:20260421T173845Z
DESCRIPTION: https://www.anm.gov.my/component/rseventspro/aktiviti/747-kurs
 us-ipn-microsoft-excel-for-data-analysis?Itemid=2827
DTSTART;VALUE=DATE:20190625
LOCATION:Institut Perakaunan Negara\, Sabak Bernam (Jalan 2\, Sungai Lang\,
  45100 Sabak Bernam\, Selangor Darul Ehsan.)
SUMMARY:KURSUS@IPN : Microsoft Excel For Data Analysis
URL:https://www.anm.gov.my/component/rseventspro/aktiviti/747-kursus-ipn-mi
 crosoft-excel-for-data-analysis?Itemid=2827
END:VEVENT
END:VCALENDAR
