BEGIN:VCALENDAR
VERSION:2.0
PRODID:-//https://www.anm.gov.my///NONSGML kigkonsult.se iCalcreator 2.10.15//
METHOD:PUBLISH
BEGIN:VEVENT
UID:20260421T174218UTC-9636zCMz4J@https://www.anm.gov.my/
DTSTAMP:20260421T174218Z
DESCRIPTION: https://www.anm.gov.my/component/rseventspro/aktiviti/749-kurs
 us-ipn-accounting-for-non-accounting-managers?Itemid=2827
DTSTART;VALUE=DATE:20190625
LOCATION:Institut Perakaunan Negara\, Sabak Bernam (Jalan 2\, Sungai Lang\,
  45100 Sabak Bernam\, Selangor Darul Ehsan.)
SUMMARY:KURSUS@IPN : Accounting For Non-Accounting Managers
URL:https://www.anm.gov.my/component/rseventspro/aktiviti/749-kursus-ipn-ac
 counting-for-non-accounting-managers?Itemid=2827
END:VEVENT
END:VCALENDAR
