BEGIN:VCALENDAR
VERSION:2.0
PRODID:-//https://www.anm.gov.my///NONSGML kigkonsult.se iCalcreator 2.10.15//
METHOD:PUBLISH
BEGIN:VEVENT
UID:20260421T162357UTC-6129Pu1gUw@https://www.anm.gov.my/
DTSTAMP:20260421T162357Z
DESCRIPTION: https://www.anm.gov.my/component/rseventspro/aktiviti/753-kurs
 us-ipn-perakaunan-pembayaran-kerajaan?Itemid=2827
DTSTART;VALUE=DATE:20190702
LOCATION:Institut Perakaunan Negara\, Sabak Bernam (Jalan 2\, Sungai Lang\,
  45100 Sabak Bernam\, Selangor Darul Ehsan.)
SUMMARY:KURSUS@IPN : Perakaunan Pembayaran Kerajaan
URL:https://www.anm.gov.my/component/rseventspro/aktiviti/753-kursus-ipn-pe
 rakaunan-pembayaran-kerajaan?Itemid=2827
END:VEVENT
END:VCALENDAR
