BEGIN:VCALENDAR
VERSION:2.0
PRODID:-//https://www.anm.gov.my///NONSGML kigkonsult.se iCalcreator 2.10.15//
METHOD:PUBLISH
BEGIN:VEVENT
UID:20260421T162154UTC-8119jVU9jw@https://www.anm.gov.my/
DTSTAMP:20260421T162154Z
DESCRIPTION: https://www.anm.gov.my/component/rseventspro/aktiviti/759-kurs
 us-ipn-pengurusan-prosedur-kawalan-terimaan?Itemid=2827
DTSTART;VALUE=DATE:20190702
LOCATION:Institut Perakaunan Negara\, Sabak Bernam (Jalan 2\, Sungai Lang\,
  45100 Sabak Bernam\, Selangor Darul Ehsan.)
SUMMARY:KURSUS@IPN : Pengurusan Prosedur Kawalan Terimaan
URL:https://www.anm.gov.my/component/rseventspro/aktiviti/759-kursus-ipn-pe
 ngurusan-prosedur-kawalan-terimaan?Itemid=2827
END:VEVENT
END:VCALENDAR
