BEGIN:VCALENDAR
VERSION:2.0
PRODID:-//https://www.anm.gov.my///NONSGML kigkonsult.se iCalcreator 2.10.15//
METHOD:PUBLISH
BEGIN:VEVENT
UID:20260421T162827UTC-66814pfZP9@https://www.anm.gov.my/
DTSTAMP:20260421T162827Z
DESCRIPTION: https://www.anm.gov.my/component/rseventspro/aktiviti/761-kurs
 us-ipn-eperolehan---pembelian-terus-pengurusan-kontrak?Itemid=2827
DTSTART;VALUE=DATE:20190702
LOCATION:Institut Perakaunan Negara\, Sabak Bernam (Jalan 2\, Sungai Lang\,
  45100 Sabak Bernam\, Selangor Darul Ehsan.)
SUMMARY:KURSUS@IPN : ePerolehan – Pembelian Terus/Pengurusan Kontrak
URL:https://www.anm.gov.my/component/rseventspro/aktiviti/761-kursus-ipn-ep
 erolehan---pembelian-terus-pengurusan-kontrak?Itemid=2827
END:VEVENT
END:VCALENDAR
