BEGIN:VCALENDAR
VERSION:2.0
PRODID:-//https://www.anm.gov.my///NONSGML kigkonsult.se iCalcreator 2.10.15//
METHOD:PUBLISH
BEGIN:VEVENT
UID:20260421T144410UTC-9601oVZdB1@https://www.anm.gov.my/
DTSTAMP:20260421T144410Z
DESCRIPTION: https://www.anm.gov.my/component/rseventspro/aktiviti/767-kurs
 us-ipn-perakaunan-terimaan-hasil-kerajaan?Itemid=2827
DTSTART;VALUE=DATE:20190708
LOCATION:Institut Perakaunan Negara\, Sabak Bernam (Jalan 2\, Sungai Lang\,
  45100 Sabak Bernam\, Selangor Darul Ehsan.)
SUMMARY:KURSUS@IPN : Perakaunan Terimaan/ Hasil Kerajaan
URL:https://www.anm.gov.my/component/rseventspro/aktiviti/767-kursus-ipn-pe
 rakaunan-terimaan-hasil-kerajaan?Itemid=2827
END:VEVENT
END:VCALENDAR
