BEGIN:VCALENDAR
VERSION:2.0
PRODID:-//https://www.anm.gov.my///NONSGML kigkonsult.se iCalcreator 2.10.15//
METHOD:PUBLISH
BEGIN:VEVENT
UID:20260421T144657UTC-5083XcGv2K@https://www.anm.gov.my/
DTSTAMP:20260421T144657Z
DESCRIPTION: https://www.anm.gov.my/component/rseventspro/aktiviti/773-kurs
 us-ipn-mpsas-persembahan-penyata-kewangan?Itemid=2827
DTSTART;VALUE=DATE:20190709
LOCATION:Institut Perakaunan Negara\, Sabak Bernam (Jalan 2\, Sungai Lang\,
  45100 Sabak Bernam\, Selangor Darul Ehsan.)
SUMMARY:KURSUS@IPN : MPSAS : Persembahan Penyata Kewangan
URL:https://www.anm.gov.my/component/rseventspro/aktiviti/773-kursus-ipn-mp
 sas-persembahan-penyata-kewangan?Itemid=2827
END:VEVENT
END:VCALENDAR
