BEGIN:VCALENDAR
VERSION:2.0
PRODID:-//https://www.anm.gov.my///NONSGML kigkonsult.se iCalcreator 2.10.15//
METHOD:PUBLISH
BEGIN:VEVENT
UID:20260421T130509UTC-5085NbFmaU@https://www.anm.gov.my/
DTSTAMP:20260421T130509Z
DESCRIPTION: https://www.anm.gov.my/component/rseventspro/aktiviti/791-kurs
 us-ipn-igfmas-perakaunan-pembayaran?Itemid=2827
DTSTART;VALUE=DATE:20190716
LOCATION:Institut Perakaunan Negara\, Sabak Bernam (Jalan 2\, Sungai Lang\,
  45100 Sabak Bernam\, Selangor Darul Ehsan.)
SUMMARY:KURSUS@IPN : iGFMAS : Perakaunan Pembayaran
URL:https://www.anm.gov.my/component/rseventspro/aktiviti/791-kursus-ipn-ig
 fmas-perakaunan-pembayaran?Itemid=2827
END:VEVENT
END:VCALENDAR
