BEGIN:VCALENDAR
VERSION:2.0
PRODID:-//https://www.anm.gov.my///NONSGML kigkonsult.se iCalcreator 2.10.15//
METHOD:PUBLISH
BEGIN:VEVENT
UID:20260421T113252UTC-2919OzgpaJ@https://www.anm.gov.my/
DTSTAMP:20260421T113252Z
DESCRIPTION: https://www.anm.gov.my/component/rseventspro/aktiviti/793-kurs
 us-ipn-pengurusan-aset-alih-stor-kerajaan?Itemid=2827
DTSTART;VALUE=DATE:20190722
LOCATION:Institut Perakaunan Negara\, Sabak Bernam (Jalan 2\, Sungai Lang\,
  45100 Sabak Bernam\, Selangor Darul Ehsan.)
SUMMARY:KURSUS@IPN : Pengurusan Aset Alih & Stor Kerajaan
URL:https://www.anm.gov.my/component/rseventspro/aktiviti/793-kursus-ipn-pe
 ngurusan-aset-alih-stor-kerajaan?Itemid=2827
END:VEVENT
END:VCALENDAR
