BEGIN:VCALENDAR
VERSION:2.0
PRODID:-//https://www.anm.gov.my///NONSGML kigkonsult.se iCalcreator 2.10.15//
METHOD:PUBLISH
BEGIN:VEVENT
UID:20260421T113407UTC-5881dmmZ42@https://www.anm.gov.my/
DTSTAMP:20260421T113407Z
DESCRIPTION: https://www.anm.gov.my/component/rseventspro/aktiviti/797-kurs
 us-ipn-perakaunan-akaun-amanah-deposit-panjar?Itemid=2827
DTSTART;VALUE=DATE:20190722
LOCATION:Institut Perakaunan Negara\, Sabak Bernam (Jalan 2\, Sungai Lang\,
  45100 Sabak Bernam\, Selangor Darul Ehsan.)
SUMMARY:KURSUS@IPN : Perakaunan Akaun Amanah\, Deposit & Panjar
URL:https://www.anm.gov.my/component/rseventspro/aktiviti/797-kursus-ipn-pe
 rakaunan-akaun-amanah-deposit-panjar?Itemid=2827
END:VEVENT
END:VCALENDAR
