BEGIN:VCALENDAR
VERSION:2.0
PRODID:-//https://www.anm.gov.my///NONSGML kigkonsult.se iCalcreator 2.10.15//
METHOD:PUBLISH
BEGIN:VEVENT
UID:20260421T101244UTC-1652sg4eI9@https://www.anm.gov.my/
DTSTAMP:20260421T101244Z
DESCRIPTION: https://www.anm.gov.my/component/rseventspro/aktiviti/801-kurs
 us-ipn-asas-pengurusan-kewangan-pbt?Itemid=2827
DTSTART;VALUE=DATE:20190731
LOCATION:Institut Perakaunan Negara\, Sabak Bernam (Jalan 2\, Sungai Lang\,
  45100 Sabak Bernam\, Selangor Darul Ehsan.)
SUMMARY:KURSUS@IPN : Asas Pengurusan Kewangan PBT
URL:https://www.anm.gov.my/component/rseventspro/aktiviti/801-kursus-ipn-as
 as-pengurusan-kewangan-pbt?Itemid=2827
END:VEVENT
END:VCALENDAR
