BEGIN:VCALENDAR
VERSION:2.0
PRODID:-//https://www.anm.gov.my///NONSGML kigkonsult.se iCalcreator 2.10.15//
METHOD:PUBLISH
BEGIN:VEVENT
UID:20260421T101227UTC-3395zmoM5c@https://www.anm.gov.my/
DTSTAMP:20260421T101227Z
DESCRIPTION: https://www.anm.gov.my/component/rseventspro/aktiviti/805-kurs
 us-ipn-comprehensive-microsoft-publisher-microsoft-powerpoint?Itemid=2827
DTSTART;VALUE=DATE:20190731
LOCATION:Institut Perakaunan Negara\, Sabak Bernam (Jalan 2\, Sungai Lang\,
  45100 Sabak Bernam\, Selangor Darul Ehsan.)
SUMMARY:KURSUS@IPN : Comprehensive Microsoft Publisher & Microsoft PowerPoi
 nt
URL:https://www.anm.gov.my/component/rseventspro/aktiviti/805-kursus-ipn-co
 mprehensive-microsoft-publisher-microsoft-powerpoint?Itemid=2827
END:VEVENT
END:VCALENDAR
