BEGIN:VCALENDAR
VERSION:2.0
PRODID:-//https://www.anm.gov.my///NONSGML kigkonsult.se iCalcreator 2.10.15//
METHOD:PUBLISH
BEGIN:VEVENT
UID:20260421T083340UTC-0201oa8kHN@https://www.anm.gov.my/
DTSTAMP:20260421T083340Z
DESCRIPTION: https://www.anm.gov.my/component/rseventspro/aktiviti/813-kurs
 us-ipn-pengurusan-perolehan-kerja?Itemid=2827
DTSTART;VALUE=DATE:20190805
LOCATION:Institut Perakaunan Negara\, Sabak Bernam (Jalan 2\, Sungai Lang\,
  45100 Sabak Bernam\, Selangor Darul Ehsan.)
SUMMARY:KURSUS@IPN : Pengurusan Perolehan Kerja
URL:https://www.anm.gov.my/component/rseventspro/aktiviti/813-kursus-ipn-pe
 ngurusan-perolehan-kerja?Itemid=2827
END:VEVENT
END:VCALENDAR
