BEGIN:VCALENDAR
VERSION:2.0
PRODID:-//https://www.anm.gov.my///NONSGML kigkonsult.se iCalcreator 2.10.15//
METHOD:PUBLISH
BEGIN:VEVENT
UID:20260423T160746UTC-0345dbH8PS@https://www.anm.gov.my/
DTSTAMP:20260423T160746Z
DESCRIPTION: https://www.anm.gov.my/component/rseventspro/aktiviti/829-kurs
 us-ipn-powerpoint-for-effective-presentation?Itemid=2425
DTSTART;VALUE=DATE:20190820
LOCATION:Institut Perakaunan Negara\, Sabak Bernam (Jalan 2\, Sungai Lang\,
  45100 Sabak Bernam\, Selangor Darul Ehsan.)
SUMMARY:KURSUS@IPN : PowerPoint For Effective Presentation
URL:https://www.anm.gov.my/component/rseventspro/aktiviti/829-kursus-ipn-po
 werpoint-for-effective-presentation?Itemid=2425
END:VEVENT
END:VCALENDAR
