BEGIN:VCALENDAR
VERSION:2.0
PRODID:-//https://www.anm.gov.my///NONSGML kigkonsult.se iCalcreator 2.10.15//
METHOD:PUBLISH
BEGIN:VEVENT
UID:20260423T055126UTC-0537Nkcz87@https://www.anm.gov.my/
DTSTAMP:20260423T055126Z
DESCRIPTION: https://www.anm.gov.my/component/rseventspro/aktiviti/847-kurs
 us-ipn-eperolehan---sebutharga-tender-ebidding?Itemid=2425
DTSTART;VALUE=DATE:20190827
LOCATION:Institut Perakaunan Negara\, Sabak Bernam (Jalan 2\, Sungai Lang\,
  45100 Sabak Bernam\, Selangor Darul Ehsan.)
SUMMARY:KURSUS@IPN : ePerolehan – Sebutharga/ Tender/ eBidding
URL:https://www.anm.gov.my/component/rseventspro/aktiviti/847-kursus-ipn-ep
 erolehan---sebutharga-tender-ebidding?Itemid=2425
END:VEVENT
END:VCALENDAR
